BEGIN:VCALENDAR
VERSION:2.0
PRODID:-//CERN//INDICO//EN
BEGIN:VEVENT
SUMMARY:Scientific Python
DTSTART:20260317T080000Z
DTEND:20260317T120000Z
DTSTAMP:20260424T181700Z
UID:indico-event-235@spectra-indico-teszt.hinfra.hu
DESCRIPTION:Python is a nice programming language for scientific programmi
 ng. Many high quality libraries are available as building block in a wide 
 variety of  scientific domains. In this training we will concentrate on t
 he core libraries\, and give some examples of domain specific libraries. 
 \nProgram\n\nmulti-dimensional arrrays and algorithms on these data struct
 ures: numpy\nmethods & algorithms useful for scientific programming\, e.g
 .\, linear algebra\, Fourier transforms\, statistics\, optimization\, roo
 t finding\, signal processing: scipy\nsymbolic computing: sympy\ncreating
  many types of plots: matplotlib\nportable file formats for scientific dat
 a: e.g.\, HDF5\nimage processing: scikit-image\n\n \n \n\nhttps://spectr
 a-indico-teszt.hinfra.hu/event/235/
LOCATION:ICTS 
URL:https://spectra-indico-teszt.hinfra.hu/event/235/
END:VEVENT
END:VCALENDAR
