BEGIN:VCALENDAR
VERSION:2.0
PRODID:-//CERN//INDICO//EN
BEGIN:VEVENT
SUMMARY:Python for data science
DTSTART:20260318T080000Z
DTEND:20260318T120000Z
DTSTAMP:20260424T164400Z
UID:indico-event-237@spectra-indico-teszt.hinfra.hu
DESCRIPTION:Python is one of the dominant languages in data science.  In 
 this training we will cover a number of modules that are useful for data p
 reparation\, analyzing data\, visualization\, and machine learning.\nProgr
 am \n\nrepresenting\, transforming & querying data: pandas\nvisualization
 : seaborn\nparsing data & regular expressions\nmachine learning: scikit-le
 arn\, keras \n\n \n \n\nhttps://spectra-indico-teszt.hinfra.hu/event/23
 7/
LOCATION:ICTS
URL:https://spectra-indico-teszt.hinfra.hu/event/237/
END:VEVENT
END:VCALENDAR
