BEGIN:VCALENDAR
VERSION:2.0
PRODID:-//CERN//INDICO//EN
BEGIN:VEVENT
SUMMARY:Iterative Linear Solvers and Parallelization
DTSTART:20260323T150000Z
DTEND:20260327T154500Z
DTSTAMP:20260424T230200Z
UID:indico-event-298@spectra-indico-teszt.hinfra.hu
CONTACT:training@hlrs.de
DESCRIPTION:The focus of this course is on iterative and parallel solvers\
 , and the parallel programming models MPI and OpenMP. Thereby\, different 
 modern Krylov Subspace Methods (CG\, GMRES\, BiCGSTAB\, ...) as well as hi
 ghly efficient preconditioning techniques are presented in the context of 
 real life applications.Hands-on sessions (in C\, Fortran and Python) will 
 allow users to immediately test and understand the basic constructs of ite
 rative solvers\, the Message Passing Interface (MPI) and the shared memory
  directives of OpenMP (in C and Fortran).This course provides scientific t
 raining in Computational Science\, and in addition\, the scientific exchan
 ge of the participants among themselves. It is jointly organized by HLRS
  and the University of Kassel.\nFor more Information visit the HLRS cours
 e website.\n\nhttps://spectra-indico-teszt.hinfra.hu/event/298/
LOCATION:Room 0.439 / Rühle Saal (Germany)
URL:https://spectra-indico-teszt.hinfra.hu/event/298/
END:VEVENT
END:VCALENDAR
