BEGIN:VCALENDAR
VERSION:2.0
PRODID:-//CERN//INDICO//EN
BEGIN:VEVENT
SUMMARY:Introduction to CoolMUC-4 with Focus on CFD and FEM Workflows
DTSTART:20260319T083000Z
DTEND:20260319T113000Z
DTSTAMP:20260424T145800Z
UID:indico-event-301@spectra-indico-teszt.hinfra.hu
DESCRIPTION:The focus of this short course is to provide to beginners in H
 igh Performance Computing (HPC) and Computational Fluid Dynamics (CFD) a c
 rash course like introduction to the following essential knowledge:\n\nInt
 roduction to the LRZ Linux Cluster System and computing environment\nIntro
 duction to a typical user environment on LRZ Linux Cluster system\nLinux t
 erminal access and file transfer tools\nUsage of the module system\nThe ba
 tch queuing or scheduling system SLURM\nIntroduction to a typical CFD-orie
 nted workflow on the example of ANSYS CFD\, StarCCM+ and Abaqus\nAspects o
 f licensing of commercial CFD and CSM software at LRZ\nQ & A\n\n\nhttps://
 spectra-indico-teszt.hinfra.hu/event/301/
URL:https://spectra-indico-teszt.hinfra.hu/event/301/
END:VEVENT
END:VCALENDAR
