BEGIN:VCALENDAR
VERSION:2.0
PRODID:-//CERN//INDICO//EN
BEGIN:VEVENT
SUMMARY:Introduction to ParaView for the Visualization of Scientific Data
DTSTART:20260311T080000Z
DTEND:20260312T110000Z
DTSTAMP:20260424T164500Z
UID:indico-event-349@spectra-indico-teszt.hinfra.hu
CONTACT:h.zilken@fz-juelich.de
DESCRIPTION:ParaView ist eine auf dem Visualization Toolkit (VTK) basieren
 de Open-Source Software\,  mit der wissenschaftlich-technische Datensätz
 e analysiert und visualisiert werden können. Unterstützt werden dabei al
 le gängigen Betriebssysteme (z.B. Windows\, Linux\, MAC OS X).  Da ParaV
 iew ein paralleles Konzept verfolgt\, kann es außer auf einzelnen PCs\, L
 aptops und Workstations auch in einem parallelen Modus auf Clustern und Su
 percomputern eingesetzt werden und eignet sich somit zur Visualisierung vo
 n sehr großen Datensätzen. Zudem ist ParaView in der Lage\, Datensätze\
 , die auf zentralen Daten- und  Visualisierungsservern abgespeichert sind
 \, dort zu rendern und das erzeugte Bild auf der lokalen Workstation des E
 ndnutzers anzuzeigen\, ohne dass der eigentliche Datensatz zum Benutzer tr
 ansferiert werden muss (remote rendering).\nIm Kurs wird der Umgang mit Pa
 raView anhand von Beispielen demonstriert.  Das Benutzerinterface wird er
 läutert\, typische Eingabedatenformate werden behandelt und wichtige Visu
 alisierungsmethoden vorgestellt. Ferner wird auf die Visualisierung von ze
 itabhängigen Daten\, die Erstellung von Animationen und auf die parallele
  Version von ParaView eingegangen.\nVoraussetzungen:\nGrundkenntnisse in U
 nix\, Kenntnisse in den Programmiersprachen C\, C++ oder Python.\nEine per
 sönliche institutionelle E-Mail-Adresse (Universität/Forschungseinrichtu
 ng\, Behörde\, Organisation oder Unternehmen) ist erforderlich\, um sich 
 für JSC-Trainingskurse anzumelden. Falls Sie über keine institutionelle 
 E-Mail-Adresse verfügen\, wenden Sie sich bitte an die Kontaktperson dies
 es Kurses.\nZielgruppe:\nProgrammierer\, die Daten mit ParaView visualisie
 ren möchten\nSprache:\nDer Kurs wird auf Deutsch gehalten.\nDauer:\nZwei 
 Halbtage\nTermine:\n11.-12. März 2026\, jeweils 9.00 - 12.00 Uhr\nOrt:\nO
 nline\nTeilnehmeranzahl:\nMinimum 5\nReferent:\nHerwig Zilken\n\nhttps://s
 pectra-indico-teszt.hinfra.hu/event/349/
LOCATION:Online
URL:https://spectra-indico-teszt.hinfra.hu/event/349/
END:VEVENT
END:VCALENDAR
