BEGIN:VCALENDAR
VERSION:2.0
PRODID:-//CERN//INDICO//EN
BEGIN:VEVENT
SUMMARY:CFD with OpenFOAM®
DTSTART:20260302T074500Z
DTEND:20260306T151500Z
DTSTAMP:20260424T150000Z
UID:indico-event-350@spectra-indico-teszt.hinfra.hu
DESCRIPTION:\n\n\nOpenFOAM® is a widely-used open-source code and a power
 ful framework for solving a variety of problems mainly in the field of CFD
 .\nThe five-day workshop gives an introduction to OpenFOAM® applied on CF
 D phenomena and is intended for beginners as well as for people with CFD b
 ackground knowledge. The user will learn about case setup\, meshing tools 
 like snappyHexMesh and cfMesh. Available OpenFOAM® utilities and addition
 al libraries like swak4Foam\, that can be used for pre- and postprocessing
  tasks\, are further aspects of this course. Additionally\, basic solvers 
 and major aspects of code structure are highlighted.\nLectures and hands-o
 n sessions with typical CFD examples will guide you through this course in
 cluding first steps in own coding.\n\n\n\n\nhttps://spectra-indico-teszt.h
 infra.hu/event/350/
LOCATION:Room 0.439 / Rühle Saal (HLRS)
URL:https://spectra-indico-teszt.hinfra.hu/event/350/
END:VEVENT
END:VCALENDAR
