BEGIN:VCALENDAR
VERSION:2.0
PRODID:-//CERN//INDICO//EN
BEGIN:VEVENT
SUMMARY:Data Analysis and Plotting in Python with Pandas
DTSTART:20260330T070000Z
DTEND:20260330T103000Z
DTSTAMP:20260424T194100Z
UID:indico-event-353@spectra-indico-teszt.hinfra.hu
CONTACT:a.dabah@fz-juelich.de
DESCRIPTION:Pandas solves the full stack of data analysis in Python: readi
 ng-in of data\, mangling and manipulation\, analysis\, and visualisation (
 and much more\, actually). It builds up on established Python packages and
  can be used interchangeably with them (like Numpy\, matplotlib). It also 
 fits perfectly into the Jupyter Notebooks workflow of modern-day data anal
 ysis.\nThis course will introduce Pandas with simple examples in hands-on 
 exercises\, highlighting the capabilities of the software package on the w
 ay with increasing complexity.\nAttendees should have run a Python program
  before and know the bare minimum of the programming language.You will be 
 using your own computer for the exercises.\n\n\n\n\nContents level\n\n\nin
  hours\n\n\nin %\n\n\n\n\n\n\nBeginner's contents:\n\n\n0 h\n\n\n0 %\n\n\n
 \n\nIntermediate contents:\n\n\n3 h\n\n\n100 %\n\n\n\n\nAdvanced contents:
 \n\n\n0 h\n\n\n0 %\n\n\n\n\nCommunity-targeted contents:\n\n\n0 h\n\n\n0 %
 \n\n\n\n\n \nPrerequisites:\nSome knowledge of Python\nA personal institu
 tional email address (university/research institution\, government agency\
 , organisation\, or company) is required to register for JSC training cour
 ses. If you don't have an institutional email address\, please get in touc
 h with the contact person for this course.\nTarget Audience:\nScientists w
 ho want to use Pandas for data analysis\nLanguage:\nThis course is given i
 n English.\nDuration:\nHalf a day\nDates:\n30 March 2026\, 09:00-12:30\nVe
 nue:\nOnline\nNumber of Participants:\nMinimum 5\, maximum 25\nInstructor:
 \nAdel Dabah (JSC)\n\nhttps://spectra-indico-teszt.hinfra.hu/event/353/
LOCATION:Online
URL:https://spectra-indico-teszt.hinfra.hu/event/353/
END:VEVENT
END:VCALENDAR
