BEGIN:VCALENDAR
VERSION:2.0
PRODID:-//CERN//INDICO//EN
BEGIN:VEVENT
SUMMARY:Interactive High-Performance Computing with JupyterLab
DTSTART:20260428T070000Z
DTEND:20260429T110000Z
DTSTAMP:20260424T145900Z
UID:indico-event-354@spectra-indico-teszt.hinfra.hu
CONTACT:j.goebbert@fz-juelich.de
DESCRIPTION:Interactive exploration and analysis of large amounts of data 
 from scientific simulations\, in-situ visualization and application contro
 l are convincing scenarios for explorative sciences. Based on the open sou
 rce software Jupyter or JupyterLab\, a way has been available for some tim
 e now that combines interactive with reproducible computing while at the s
 ame time meeting the challenges of support for the wide range of different
  software workflows.\nEven on supercomputers\, the method enables the crea
 tion of documents that combine live code with narrative text\, mathematica
 l equations\, visualizations\, interactive controls\, and other extensive 
 output. However\, a number of challenges must be mastered in order to make
  existing workflows ready for interactive high-performance computing. With
  so many possibilities\, it's easy to lose sight of the big picture. This 
 course provides a detailed introduction to interactive high-performance co
 mputing.\nThe following topics are part of the course:\n\nIntroduction to 
 Jupyter\nJupyter kernels customization\nJupyterLab for custom services\nPa
 rallel computing using JupyterLab\n\nPrerequisites:\nExperience in Python\
 nA personal institutional email address (university/research institution\,
  government agency\, organisation\, or company) is required to register fo
 r JSC training courses. If you don't have an institutional email address\,
  please get in touch with the contact person for this course.\nTarget Audi
 ence:\nScientists who want to use interactive HPC for research.\nLanguage:
 \nThis course is given in English.\nDuration:\n2 half days\nDates:\n28-29 
 April 2026\, 09:00-13:00 each day\nVenue:\nOnline\nNumber of Participants:
 \nMaximum 40\nInstructors:\nJens Henrik Göbbert\, JSC\n\nhttps://spectra-
 indico-teszt.hinfra.hu/event/354/
LOCATION:Online
URL:https://spectra-indico-teszt.hinfra.hu/event/354/
END:VEVENT
END:VCALENDAR
