BEGIN:VCALENDAR
VERSION:2.0
PRODID:-//CERN//INDICO//EN
BEGIN:VEVENT
SUMMARY:Introduction to Parallel Programming with MPI
DTSTART:20260316T080000Z
DTEND:20260318T160000Z
DTSTAMP:20260424T145600Z
UID:indico-event-369@spectra-indico-teszt.hinfra.hu
CONTACT:i.zhukov@fz-juelich.de\;j.zjupa@fz-juelich.de
DESCRIPTION:Course Content:\nAn introduction to the parallel programming o
 f supercomputers is given. The focus is on the usage of the Message Passin
 g Interface (MPI)\, the most often used programming model for systems with
  distributed memory.\nThe three day course consists of lectures as well as
  practical tutorials on implementing the techniques presented in the cours
 e.\nTopics covered:\n\nFundamentals of parallel computing\n\nHPC system ar
 chitectures\nShared and distributed memory concepts\n\nMPI\n\nBasics\nPoin
 t-to-point communication\nCollective communication\nBlocking and non-block
 ing communication\nData types\nCommunicators\n\nTools\n\n\n\n\n\nContent l
 evel\n\n\nIn hours\n\n\nIn %\n\n\n\n\n\n\nBeginner's content:\n\n\n13.5\n\
 n\n75 %\n\n\n\n\nIntermediate content:\n\n\n4.5\n\n\n25 %\n\n\n\n\nAdvance
 d content:\n\n\n0\n\n\n0 %\n\n\n\n\nCommunity-targeted content:\n\n\n0\n\n
 \n0 %\n\n\n\n\nPrerequisites:\nKnowledge about Linux (e.g. make\, command 
 line editor\, Linux shell)\, experience in one of the following programmin
 g languages: C/C++/Fortran/Python\nTarget Audience:\nSupercomputer users\n
 Language:\nThis course is given in English.\nDuration:\n3 days\nDates:\n16
 -18 March 2026\, 09:00-17:00 each day\nVenue:\nOnline\nNumber of Participa
 nts:\nMinimum 10\, maximum 50\nInstructors:\nIlya Zhukov\, Jolanta Zjupa\,
  Junxian Chew (JSC)\n\nhttps://spectra-indico-teszt.hinfra.hu/event/369/
LOCATION:Online
URL:https://spectra-indico-teszt.hinfra.hu/event/369/
END:VEVENT
END:VCALENDAR
