BEGIN:VCALENDAR
VERSION:2.0
PRODID:-//CERN//INDICO//EN
BEGIN:VEVENT
SUMMARY:The Amsterdam Modeling Suite on SURF Research Cloud
DTSTART:20260423T110000Z
DTEND:20260423T150000Z
DTSTAMP:20260424T164400Z
UID:indico-event-371@spectra-indico-teszt.hinfra.hu
DESCRIPTION:\n\nDiscover how to accelerate your materials and molecular re
 search using the Amsterdam Modeling Suite (AMS) – a powerful software pl
 atform for computational chemistry and materials modeling.\n\n\nSign up\n\
 n\nNow accessible to Dutch researchers via the SURF Research Cloud\, AMS e
 nables cutting-edge simulations in fields such as batteries\, semiconducto
 rs\, catalysis\, and polymers. In this hands-on workshop\, you’ll learn 
 how to set up and run atomistic simulations with AMS in the cloud environm
 ent\, helping you tackle complex research questions efficiently and at sca
 le.\nFor whom?\nThis workshop is intended for researchers and students wit
 h experience in computational chemistry or computational materials science
  who are interested in using AMS on the SURF Research Cloud for their sim
 ulations. The workshop will be taught in English.\nRequirements\n\nBring y
 our laptop\nUp-to-date browser\nComputational chemistry background\n\n\n\n
 \nhttps://spectra-indico-teszt.hinfra.hu/event/371/
LOCATION:Surf Utrecht
URL:https://spectra-indico-teszt.hinfra.hu/event/371/
END:VEVENT
END:VCALENDAR
