BEGIN:VCALENDAR
VERSION:2.0
PRODID:-//CERN//INDICO//EN
BEGIN:VEVENT
SUMMARY:C++ for Scientific  Computing - Day 3 of 4
DTSTART:20260303T080000Z
DTEND:20260303T160000Z
DTSTAMP:20260424T145600Z
UID:indico-event-376@spectra-indico-teszt.hinfra.hu
DESCRIPTION:C++ is a modern\, object-oriented programming language that is
  used to build industry strength applications when performance and reliab
 ility are  important.The language has a reputation of being challenging 
 to use\, but for scientific programming\, a core set of features is suffic
 ient for most programming tasks. \nIn this training\, we will concentrate
  on that feature set.  Although the scope is scientific programming\, mos
 t of the material presented in Bjarne  Stroustrup's excellent "A tour of 
 C++" is covered\, as well as some addition introduced in the C++14 specifi
 cation. The STL (Standard Template Library)  will be covered in some deta
 il since selecting the appropriate data structures and algorithms is one o
 f the most important design decisions.\nWe will see that C++ code can be c
 ompact\, straightforward\, elegant and fun to write\, and is a very useful
  programming language for more demanding applications. Hands-on and progra
 mming challenges will be provided.\n \n\nhttps://spectra-indico-teszt.hin
 fra.hu/event/376/
URL:https://spectra-indico-teszt.hinfra.hu/event/376/
END:VEVENT
END:VCALENDAR
