BEGIN:VCALENDAR
VERSION:2.0
PRODID:-//CERN//INDICO//EN
BEGIN:VEVENT
SUMMARY:Julia\, the good\, the bad\, the ugly
DTSTART:20260311T080000Z
DTEND:20260311T120000Z
DTSTAMP:20260424T194300Z
UID:indico-event-378@spectra-indico-teszt.hinfra.hu
DESCRIPTION:The Julia programming language has gained quite some popularit
 y over the last couple of years. What are its strong points\, its weak po
 ints? Is it an  elegant language to work with? Should you learn it\, use
  it?This training tries to give you some insights into the language and ho
 w it compares to other similar programming languages such as MATLAB and  
 Python so that you can answer these questions for yourself.\nProgramme \n
 When you complete this training you will\n\nwrite Julia expressions\nknow 
 how to write functions\nknow the control flow statements\nknow the data ty
 pes that Julia supports\nlearn how to design your code\nknow how to do fil
 e I/O\nknow how to organize and document your code\nlearn about the Julia 
 ecosystem\n\n\nhttps://spectra-indico-teszt.hinfra.hu/event/378/
URL:https://spectra-indico-teszt.hinfra.hu/event/378/
END:VEVENT
END:VCALENDAR
