BEGIN:VCALENDAR
VERSION:2.0
PRODID:-//CERN//INDICO//EN
BEGIN:VEVENT
SUMMARY:Defensive Programming and Debugging
DTSTART:20260423T070000Z
DTEND:20260423T110000Z
DTSTAMP:20260424T145900Z
UID:indico-event-381@spectra-indico-teszt.hinfra.hu
DESCRIPTION:All code contains bugs\, finding and fixing them is boring. In
  this training\, best practices are presented to reduce the number of bugs
  in your code. You will also learn about debuggers and debugging technique
 s to find bugs more efficiently. \nProgramme \n\nbest practices in codin
 g\, code style\, error handling\nusing compiler options to warn about pote
 ntial issues\nunit and functional testing\nusing a debugger (breakpoints\,
  inspection\, watchpoints\, tracing  …)\nzoo of bugs\noptional: debuggi
 ng parallel code\n\n\nhttps://spectra-indico-teszt.hinfra.hu/event/381/
URL:https://spectra-indico-teszt.hinfra.hu/event/381/
END:VEVENT
END:VCALENDAR
