BEGIN:VCALENDAR
VERSION:2.0
PRODID:-//CERN//INDICO//EN
BEGIN:VEVENT
SUMMARY:Modern C++ Software Design (Intermediate)
DTSTART:20260310T074500Z
DTEND:20260313T153000Z
DTSTAMP:20260424T164300Z
UID:indico-event-385@spectra-indico-teszt.hinfra.hu
DESCRIPTION:The focus of this intermediate C++ course are the essential C+
 + software development principles\, concepts\, idioms\, and best practices
 \, which enable programmers to create professional\, high-quality code. Th
 e course will give insight into the different aspects of C++ (object-orien
 ted programming\, functional programming\, generic programming) and will t
 each guidelines to develop mature\, robust\, maintainable\, and efficient 
 C++ code.\n\nhttps://spectra-indico-teszt.hinfra.hu/event/385/
LOCATION:0.439 / Rühle Saal (HLRS\, University of Stuttgart)
URL:https://spectra-indico-teszt.hinfra.hu/event/385/
END:VEVENT
END:VCALENDAR
