BEGIN:VCALENDAR
VERSION:2.0
PRODID:-//CERN//INDICO//EN
BEGIN:VEVENT
SUMMARY:Programming of Petaflop Machine: MareNostrum5
DTSTART:20260303T080000Z
DTEND:20260304T120000Z
DTSTAMP:20260424T164600Z
UID:indico-event-396@spectra-indico-teszt.hinfra.hu
DESCRIPTION:The objective of this course is to present to potential users 
 the new configuration of MareNostrum and a introduction on how to use the 
 new system (batch system\, compilers\, hardware\, MPI\, etc). Also It will
  provide an introduction about RES infrastructures and how to get access t
 o the supercomputing resources available.\n\nhttps://spectra-indico-teszt.
 hinfra.hu/event/396/
LOCATION:Barcelona
URL:https://spectra-indico-teszt.hinfra.hu/event/396/
END:VEVENT
END:VCALENDAR
