BEGIN:VCALENDAR
VERSION:2.0
PRODID:-//CERN//INDICO//EN
BEGIN:VEVENT
SUMMARY:Advanced Performance Analysis and Tools
DTSTART:20260311T083000Z
DTEND:20260312T163000Z
DTSTAMP:20260424T211900Z
UID:indico-event-397@spectra-indico-teszt.hinfra.hu
DESCRIPTION:The objective of this course is to learn how Paraver and Di
 memas tools can be used to analyze the performance of parallel applicatio
 ns and to familiarize with the tools usage as well as instrumenting applic
 ations with Extrae.\n\n\n\nThe students who finish this course will have 
 a basic knowledge on the usage of the BSC performance tools. They will be 
 able to apply the same methodology to their applications\, identifying pot
 ential bottlenecks and getting hints on how to improve the applications pe
 rformance\n\n\n\n\nhttps://spectra-indico-teszt.hinfra.hu/event/397/
LOCATION:Barcelona
URL:https://spectra-indico-teszt.hinfra.hu/event/397/
END:VEVENT
END:VCALENDAR
