BEGIN:VCALENDAR
VERSION:2.0
PRODID:-//CERN//INDICO//EN
BEGIN:VEVENT
SUMMARY:Advanced Heterogeneous Programming on FPGAs with OmpSs@FPGA
DTSTART:20260318T090000Z
DTEND:20260318T150000Z
DTSTAMP:20260425T013900Z
UID:indico-event-399@spectra-indico-teszt.hinfra.hu
DESCRIPTION:This tutorial will introduce the audience to the BSC tools for
  heterogenous programming on FPGA devices. It describes OmpSs@FPGA\, as a 
 productive programming environment for compute systems with FPGAs.\n\nMore
  specifically\, the tutorial will:\n\nIntroduce the OmpSs@FPGA programming
  model\, how to write\, compile and execute applications on FPGAs\nShow th
 e "implements" feature to explot parallelism across cores and IP cores\nDe
 monstrate how to analyze applications to determine which portions can be e
 xecuted on FPGAs\, and use OmpSs@FPGA to parallelize/optimize them.\n\n\n\
 nhttps://spectra-indico-teszt.hinfra.hu/event/399/
LOCATION:Barcelona
URL:https://spectra-indico-teszt.hinfra.hu/event/399/
END:VEVENT
END:VCALENDAR
