BEGIN:VCALENDAR
VERSION:2.0
PRODID:-//CERN//INDICO//EN
BEGIN:VEVENT
SUMMARY:Pre-exascale System Administration: MareNostrum5 @ BSC
DTSTART:20260414T070000Z
DTEND:20260415T110000Z
DTSTAMP:20260425T001100Z
UID:indico-event-400@spectra-indico-teszt.hinfra.hu
DESCRIPTION:The objective of this course is to explain the different compo
 nents of MareNostrum 5 and to understand the design decisions taken. We al
 so analyze how the system administration is taken in this pre-exascale sys
 tem.\n \n\n\n\nLearning Outcomes: The students will learn how MareNostru
 m 5 is organized and how it works. This can have some insights and ideas a
 bout how to manage clusters of thousands of nodes in a HPC or no-HPC envir
 onment.\n\n\n\n\n\n\n\n\n \n\n\n\n\n\n\nhttps://spectra-indico-teszt.hinf
 ra.hu/event/400/
LOCATION:Barcelona
URL:https://spectra-indico-teszt.hinfra.hu/event/400/
END:VEVENT
END:VCALENDAR
