BEGIN:VCALENDAR
VERSION:2.0
PRODID:-//CERN//INDICO//EN
BEGIN:VEVENT
SUMMARY:Who Owns AI Inside an Organisation? — Operational Responsibility
DTSTART:20260303T090000Z
DTEND:20260303T110000Z
DTSTAMP:20260424T145700Z
UID:indico-event-403@spectra-indico-teszt.hinfra.hu
DESCRIPTION:Speakers: Petra Fernandes (Lawyer - Data Protection\, AI & Cyb
 ersecurity)\n\nhttps://spectra-indico-teszt.hinfra.hu/event/403/
URL:https://spectra-indico-teszt.hinfra.hu/event/403/
END:VEVENT
END:VCALENDAR
