BEGIN:VCALENDAR
VERSION:2.0
PRODID:-//CERN//INDICO//EN
BEGIN:VEVENT
SUMMARY:Parallel Programming with OpenMP - Day 2 of 2
DTSTART:20260401T070000Z
DTEND:20260401T110000Z
DTSTAMP:20260424T145800Z
UID:indico-event-407@spectra-indico-teszt.hinfra.hu
DESCRIPTION:OpenMP is the de facto standard for shared memory programming 
 in a scientific context. Using annotations\, the C/C++/Fortran programmer 
 can parallelize his code step by step. However\, to obtain efficient code\
 , it is mandatory to have a thorough understanding of the features and pit
 falls of  OpenMP. This course deals with those in detail. \nProgram\nTh
 is course covers the OpenMP 3.1 standard\, and gives an overview of the ne
 w features in OpenMP 4.0:\n\nOverview and execution model\nWork sharing di
 rectives\nData environment\nPitfalls\nVerification of OpenMP applications\
 nOpenMP 4.0 overview \n\nLearning Objectives \n\nParticipants are able t
 o start developing multicore applications  using OpenMP.\nGood understan
 ding of the semantics of OpenMP features\nAwareness of potential pitfalls\
 nFamiliarity with the new features in the OpenMP 4 standard\n\n\nhttps://s
 pectra-indico-teszt.hinfra.hu/event/407/
URL:https://spectra-indico-teszt.hinfra.hu/event/407/
END:VEVENT
END:VCALENDAR
