BEGIN:VCALENDAR
VERSION:2.0
PRODID:-//CERN//INDICO//EN
BEGIN:VEVENT
SUMMARY:SUPERCOMPUTACIÓN PARA IA: UNA INTRODUCCIÓN PARA PYMES (2ª Edici
 ón)
DTSTART:20260322T070000Z
DTEND:20260327T160000Z
DTSTAMP:20260424T164600Z
UID:indico-event-411@spectra-indico-teszt.hinfra.hu
DESCRIPTION:La inteligencia artificial moderna se apoya en la supercomputa
 ción para entrenar y ejecutar modelos cada vez más complejos.Este curso 
 de EuroCC Spain RES ofrece a las pymes una introducción práctica a las t
 ecnologías y conceptos clave que hacen posibleesta revolución\, desde la
  programación paralela hasta el uso eficiente de GPUs y frameworks de Dee
 p Learning.\nA lo largo del curso\, los participantes aprenderán:\n\nQué
  es la supercomputación y cómo puede aplicarse en entornos empresariale
 s.\nParadigmas de programación paralela y su relevancia en el procesamie
 nto masivo de datos.\nArquitectura y funcionamiento de las GPUs: sistemas 
 heterogéneos\, modelo host-device y Simultaneous Multi-Threading (SMT).\n
 Introducción al Deep Learning (DL): panorama actual de la inteligencia ar
 tificial y fundamentos de las redes neuronales.\nWorkflow de Deep Learning
 : desde la preparación de datos hasta la evaluación de modelos.\nEntrena
 miento práctico con PyTorch\, uno de los frameworks más usados en la ind
 ustria.\nEl paralelismo en la IA: cómo distribuir el entrenamiento y acel
 erar los procesos.\nIntroducción a PyTorch Distributed Data Parallel (DDP
 ) y estrategias de optimización.\n\nUn curso ideal para profesionales\,
  técnicos y responsables de innovación que deseen entender cómo la sup
 ercomputaciónpuede potenciar los proyectos de IA en su organización.\nEl
  curso combina una parte de autoaprendizaje online\, para los conceptos t
 eóricos\, que estará disponible del 2 al 4 de marzo.El curso se completa
  con una sesión práctica presencial el 5 de marzo en la Universidad de 
 Cantabria\,en la que los participantes podrán aplicar los conceptos apren
 didos medianteejemplos reales utilizando recursos de supercomputación de 
 EuroCC.Al finalizar\, los alumnos que superen el proyecto final del curso
  recibirán uncertificado de aprovechamiento EuroCC.\nDatos importantes:\
 n\nRegistro: hasta el día 18 de marzo.\nPlazas: 20 plazas por orden de 
 suscripción\, lista de espera para futuras ediciones.\nDisponibilidad de
 l material teórico: 22-25 de marzo (enlace web enviado primer día).\nSes
 ión práctica online:  26 de marzo. 16:30-18:30. (envío de enlace al co
 mienzo del curso).\n\n\nhttps://spectra-indico-teszt.hinfra.hu/event/411/
LOCATION:Laboratorio Simulación Ciencias I (Univesidad de Cantabria\, Fac
 ultad de Ciencias)
URL:https://spectra-indico-teszt.hinfra.hu/event/411/
END:VEVENT
END:VCALENDAR
