BEGIN:VCALENDAR
VERSION:2.0
PRODID:-//CERN//INDICO//EN
BEGIN:VEVENT
SUMMARY:Running Calculations the HPC way
DTSTART:20260302T090000Z
DTEND:20260302T120000Z
DTSTAMP:20260424T145700Z
UID:indico-event-413@spectra-indico-teszt.hinfra.hu
CONTACT:training@cyfronet.pl\;szkolenia@cyfronet.pl
DESCRIPTION:The training focuses on running and monitoring jobs on the sup
 ercomputers. \nThis is the most important training for a novice user. The
  main goal is to showcase the general flow of doing calculations on a supe
 rcomputer and present how to configure a job tuned to the problem size and
  type.\nLevel\n\nTarget audience\nTraining is intended for new users who j
 ust created an account\, ran an example job and want to start running thei
 r own calculations at ACC Cyfronet AGH. \nAgenda\n\nWhat's HPC?\nStorage 
 spaces at Cyfronet and how to use them\,\nOverview of the sbatch options u
 sed to run jobs\,\nModules or how to use software on the supercomputer\,\n
 Job monitoring in practice\n\nRequirements\nWe recommend doing this traini
 ng after completing First Time on a Supercomputer training provided at A
 CK Cyfronet AGH. \nTechnical prerequisites:\n\nPLGrid account at https:/
 /portal.plgrid.pl/\;\nan active affiliation at https://portal.plgrid.pl/u
 sers/affiliations\;\naccess to Ares supercomputer\,\n\nif a participant ha
 s the access\, no further action\,\nif not\, one need to apply at https:/
 /portal.plgrid.pl/services/103 and the access will be granted when joining
  the team (see below)\,\nparticipants are not required to have their own g
 rant allocations\;\n\n\nmembership in the plggtraining team - the activati
 on link will be sent after registration.\n\nThe above prerequisites are re
 quired to actively participate in the hands-on exercises.In case of no act
 ive affiliation or PLGrid account\, please contact the organisers at trai
 ning@cyfronet.pl. \nParticipants' computers should be equipped with softw
 are that allows SSH connections. On Windows\, it is recommended to use Wi
 ndows Terminal after checking if OpenSSH is installed. We advise against 
 using Putty.\nAt 10:30 am on 23rd February 2026\, a Dry-run will be held. 
 Participants are invited to come to learn how to log in to Ares supercompu
 ter before the training and resolve any problems with the Training Team.\n
 Venue\nThe workshop will be conducted online on the Zoom platform. The mee
 ting link will be sent to registered participants.\nLanguage\nEnglish\nDur
 ation\n3 hours\nRegistration\nThe Registration and the Waiting list close 
 automatically after 17th February 2026. The Registration may close prematu
 rely if the limit number of participants is hit beforehand\, but the Waiti
 ng List will be available until the deadline above. Please use this link t
 o register https://events.plgrid.pl/event/109/  \nAcknowledgements\nThis
  course is partially funded by the EuroCC 2 project.\nThe project has rece
 ived funding from the European High-Performance Computing Joint Undertakin
 g (JU) under grant agreement No 101101903. The JU receives support from th
 e Digital Europe Programme and Austria\, Belgium\, Bulgaria\, Croatia\, Cy
 prus\, Czech Republic\, Denmark\, Estonia\, Finland\, France\, Germany\, G
 reece\, Hungary\, Iceland\, Ireland\, Italy\, Latvia\, Lithuania\, Luxembo
 urg\, Montenegro\, Netherlands\, North Macedonia\, Norway\, Poland\, Portu
 gal\, Romania\, Serbia\, Slovakia\, Slovenia\, Spain\, Sweden\, and Türki
 ye.\n\nhttps://spectra-indico-teszt.hinfra.hu/event/413/
LOCATION:Online
URL:https://spectra-indico-teszt.hinfra.hu/event/413/
END:VEVENT
END:VCALENDAR
