BEGIN:VCALENDAR
VERSION:2.0
PRODID:-//CERN//INDICO//EN
BEGIN:VEVENT
SUMMARY:Different Workloads on HPC
DTSTART:20260305T090000Z
DTEND:20260305T120000Z
DTSTAMP:20260424T181600Z
UID:indico-event-414@spectra-indico-teszt.hinfra.hu
CONTACT:szkolenia@cyfronet.pl\;training@cyfronet.pl
DESCRIPTION:The training focuses on different ways to allocate resources o
 n supercomputers and parallelisation schemes used to speed up calculations
 .\nModern supercomputers are massive parallel machines with up to hundreds
  of cores on a single node and even thousands of nodes connected via fast 
 network interface. To utilise those machines fully\, one needs to know abo
 ut parallelisation techniques and queuing system options of resource alloc
 ation. This training will show different ways that Slurm allocates resourc
 es and how to apply them to different computations and workloads.\nLevel\n
 \n \nTarget audience\nTraining is intended for users who have started run
 ning their own calculations and need to learn about different methods of a
 llocating resources at ACC Cyfronet AGH. \nAgenda\n\nIntroduction: serial
  vs parallel\,\nEmbarrassingly parallel (so parallel it's embarrassing!)\,
 \nIntranode standards and you:\n\nMPI\,\nOpenMP\,\nhybrid (MPI+OpenMP)\,\n
 srun\;\n\n\nGoing multinode\,\nAccelerating with a GPU card\,\nEven more d
 ifferent workloads:\n\nWhen HPC goes HTC (array jobs)\,\nChaining calculat
 ions with job dependencies.\n\n\n\nRequirements\nWe recommend doing this t
 raining after familiarizing with the contents of Running Calculations the 
 HPC way training provided at ACC Cyfronet AGH. \nTechnical prerequisites
 :\n\nPLGrid account at https://portal.plgrid.pl/\;\nan active affiliation
  at https://portal.plgrid.pl/users/affiliations\;\naccess to Ares superco
 mputer\,\n\nif a participant has the access\, no further action\,\nif not\
 , one need to apply at https://portal.plgrid.pl/services/103 and the acce
 ss will be granted when joining the team (see below)\,\nparticipants are n
 ot required to have their own grant allocations\;\n\n\naccess to JupyterHu
 bHPC\, apply at https://portal.plgrid.pl/services/110\;\nmembership in the
  plggtraining team - the activation link will be sent after registration.\
 n\nThe above prerequisites are required to actively participate in the han
 ds-on exercises.In case of no active affiliation or PLGrid account\, pleas
 e contact the organisers at training@cyfronet.pl. \nParticipants' comput
 ers should be equipped with software that allows SSH connections. On Windo
 ws\, it is recommended to use Windows Terminal after checking if OpenSSH
  is installed. We advise against using Putty.\nAt 10:30 am on 23rd Februar
 y 2026\, a Dry-run will be held. Participants are invited to come to learn
  how to log in to Ares supercomputer before the training and resolve any p
 roblems with the Training Team.\nVenue\nThe workshop will be conducted onl
 ine on the Zoom platform. The meeting link will be sent to registered part
 icipants.\nLanguage\nEnglish\nDuration\n3 hours\nRegistration\nThe Registr
 ation and the Waiting list close automatically after 17th February 2026. T
 he Registration may close prematurely if the limit number of participants 
 is hit beforehand\, but the Waiting List will be available until the deadl
 ine above. Please use this link to register https://events.plgrid.pl/event
 /110/\nAcknowledgements\nThis course is partially funded by the EuroCC 2 p
 roject.\nThe project has received funding from the European High-Performan
 ce Computing Joint Undertaking (JU) under grant agreement No 101101903. Th
 e JU receives support from the Digital Europe Programme and Austria\, Belg
 ium\, Bulgaria\, Croatia\, Cyprus\, Czech Republic\, Denmark\, Estonia\, F
 inland\, France\, Germany\, Greece\, Hungary\, Iceland\, Ireland\, Italy\,
  Latvia\, Lithuania\, Luxembourg\, Montenegro\, Netherlands\, North Macedo
 nia\, Norway\, Poland\, Portugal\, Romania\, Serbia\, Slovakia\, Slovenia\
 , Spain\, Sweden\, and Türkiye.\n\nhttps://spectra-indico-teszt.hinfra.hu
 /event/414/
LOCATION:Online
URL:https://spectra-indico-teszt.hinfra.hu/event/414/
END:VEVENT
END:VCALENDAR
