BEGIN:VCALENDAR
VERSION:2.0
PRODID:-//CERN//INDICO//EN
BEGIN:VEVENT
SUMMARY:AI in Action for SMEs - A EuroCC4SEE Collaborative Training
DTSTART:20260302T084500Z
DTEND:20260303T113000Z
DTSTAMP:20260425T001100Z
UID:indico-event-417@spectra-indico-teszt.hinfra.hu
DESCRIPTION:Language: English\nOrganisers: NCC Bosnia and Herzegovina\, 
 NCC Montenegro\, NCC Serbia and NCC Türkiye\nFormat: %100 online\, via Z
 oom\nLevel: Intermediate\nTarget Audience: Primarily SMEs and start-ups\;
  researchers are also welcome to participate.\nTopic: Artificial Intellig
 ence\nOverview: This is a 1.5-day online training designed to support SM
 Es\, start-ups\, and researchers in adopting practical Artificial Intelli
 gence solutions. Organised jointly by NCC Türkiye\, NCC Montenegro\, NCC
  Serbia\, NCC Bosnia and Herzegovina\, and \, the training brings together
  regional expertise under the EuroCC4SEE initiative.\nThe program combines
  theoretical foundations with hands-on HPC demo sessions\, covering Time S
 eries Forecasting\, Explainable AI (XAI)\, and Applied Data Anonymization 
 Techniques. Participants will gain practical insights into AI implementati
 on\, trustworthiness\, and data protection\, while exploring how High-Perf
 ormance Computing (HPC) infrastructures can accelerate AI-driven innovatio
 n.\nTrainers: Milutin Pavicevic (NCC Montenegro)\nDr. Enver Özdemir & Ga
 mze Erdoğan (NCC Türkiye)\nDr. Valentina Janev (NCC Serbia)\nDr. Bojana 
 Bašaragin (NCC Serbia)\nDr. Lemana Spahić (NCC Bosnia and Herzegovina)\n
  \n----------------------------------------------------------------------
 ---\nContact: ncc@ulakbim.gov.tr\n- X: https://twitter.com/EuroCC_Turke
 y \n- LinkedIN: https://www.linkedin.com/company/eurocc-turkey\n- YouT
 ube: https://www.youtube.com/c/EuroCCTurkey\n\nhttps://spectra-indico-tes
 zt.hinfra.hu/event/417/
URL:https://spectra-indico-teszt.hinfra.hu/event/417/
END:VEVENT
END:VCALENDAR
