BEGIN:VCALENDAR
VERSION:2.0
PRODID:-//CERN//INDICO//EN
BEGIN:VEVENT
SUMMARY:Parallel Programming with MPI -Day 2 of 2
DTSTART:20260421T070000Z
DTEND:20260421T140000Z
DTSTAMP:20260424T150000Z
UID:indico-event-419@spectra-indico-teszt.hinfra.hu
DESCRIPTION:The Message Passing Interface is the de facto standard for dis
 tributed programming in a scientific context. It is implemented in librar
 ies that can be  used from C/C++/Fortran\, although wrappers for other l
 anguages exist as well.To write efficient code\, a thorough understanding
  of the semantics of the API is required\, this course will emphasize pote
 ntial performance hazards and pitfalls.  The strengths and weaknesses of 
 various MPI features are discussed. \nProgram \nIn several hands-on sess
 ions\, the participant has the opportunity to experiment.\n\nParallel arc
 hitectures and programming models\nMPI overview\nMPI programming model\nMe
 ssages and point-to-point communication\nNon-blocking communication\nDeriv
 ed data types\nVirtual topologies\nCollective communication\nMPI-2 overvie
 w\nMPI-2 one-sided communication\nParallel debugging\nMPI-2 parallel file\
 nMPI-3 overview\n\nThis MPI-course covers the full MPI-3 standard.\n \n\n
 https://spectra-indico-teszt.hinfra.hu/event/419/
URL:https://spectra-indico-teszt.hinfra.hu/event/419/
END:VEVENT
END:VCALENDAR
