BEGIN:VCALENDAR
VERSION:2.0
PRODID:-//CERN//INDICO//EN
BEGIN:VEVENT
SUMMARY:Parallel programming with MPI - Day 3
DTSTART:20260421T220000Z
DTEND:20260422T140000Z
DTSTAMP:20260424T181600Z
UID:indico-event-421@spectra-indico-teszt.hinfra.hu
DESCRIPTION:https://spectra-indico-teszt.hinfra.hu/event/421/
URL:https://spectra-indico-teszt.hinfra.hu/event/421/
END:VEVENT
END:VCALENDAR
