BEGIN:VCALENDAR
VERSION:2.0
PRODID:-//CERN//INDICO//EN
BEGIN:VEVENT
SUMMARY:Formation HPC :: Intro au HPC (1/2) : De votre ordinateur portable
  à un supercalculateur !
DTSTART:20260313T130000Z
DTEND:20260313T150000Z
DTSTAMP:20260424T164600Z
UID:indico-event-425@spectra-indico-teszt.hinfra.hu
DESCRIPTION:Vous utilisez chaque jour votre ordinateur\, mais savez-vous c
 omment les plus puissants calculateurs du monde transforment la recherche 
 scientifique\, l’innovation industrielle et même notre quotidien ?\nCet
 te conférence vous ouvre les portes de l’univers fascinant des superca
 lculateurs et de leur écosystème.\nAu programme :\n\n Comprendre pourqu
 oi nous avons besoin des supercalculateurs\n Découvrir comment ils sont 
 utilisés dans la recherche et l’industrie\n Explorer l’architecture 
 d’un supercalculateur\n Créer votre compte ROMEO pour participer à la
  2ᵉ session\n\n \n\n \nDate : 13 mars – 14h à 16hMode : Hybride (pr
 ésentiel + distanciel)Lieu : URCA\, Campus Moulin de la Housse\, Bâtimen
 t 2/3\, Salle 2R-32Pré-requis : Aucun – formation ouverte à tous\nPour
 quoi participer ?\n \n \n \n\n Accessible à tous : aucun prérequis n
 écessaire\n Une occasion unique de plonger dans le monde du calcul haute
  performance\n Rencontrez et échangez avec des experts\n Préparez-vous
  pour la suite de la formation et vos futurs projets\n\n Que vous soyez 
 étudiant\, chercheur\, ingénieur ou simplement curieux\, cette formation
  est une porte d’entrée idéale vers le calcul haute performance.\n Le
 s places sont limitées : ne manquez pas cette opportunité !\n Une forma
 tion gratuite proposée par CC-FR\, URCA\, ROMEO et MesoNet.\n\nhttps://sp
 ectra-indico-teszt.hinfra.hu/event/425/
URL:https://spectra-indico-teszt.hinfra.hu/event/425/
END:VEVENT
END:VCALENDAR
