BEGIN:VCALENDAR
VERSION:2.0
PRODID:-//CERN//INDICO//EN
BEGIN:VEVENT
SUMMARY:Fundamentals of Deep Learning
DTSTART:20260326T080000Z
DTEND:20260326T170000Z
DTSTAMP:20260424T175700Z
UID:indico-event-426@spectra-indico-teszt.hinfra.hu
DESCRIPTION:Fundamentals of Deep Learning\n Date : Jeudi 26 mars 2026 | 9
 h – 18h – COMPLET! Nouvelle date proposée le 30 mars 2026 – voir fo
 rmation suivante Format : Présentiel\nUne séance pratique d’introduc
 tion au Deep Learning\, orientée sur PyTorch.Les supports sont en anglais
 \, mais la formation sera dispensée en français.\n \n\n \n Contenu de
  la formation\n \n\nBases de l’apprentissage profond\n\n \n\nEntraîne
 r\, valider et tester un modèle\n\n \n\nAugmentation de données\n\n \n
 \nTransfer Learning : adapter un réseau de neurones existant à vos besoi
 ns\n\n \n\nÉvaluation finale avec certificat de complétion\n\n \n+ de 
 détails sur le cours NVIDIA\n Prérequis\n \n\nOrdinateur portable util
 isable (performance minimale non requise)\nBases en programmation\nConnais
 sances en Python fortement recommandées\nCompte sur la plateforme d’app
 rentissage NVIDIA nécessaire\n\n\nhttps://spectra-indico-teszt.hinfra.hu/
 event/426/
URL:https://spectra-indico-teszt.hinfra.hu/event/426/
END:VEVENT
END:VCALENDAR
