BEGIN:VCALENDAR
VERSION:2.0
PRODID:-//CERN//INDICO//EN
BEGIN:VEVENT
SUMMARY:Fundamentals of Deep Learning
DTSTART:20260330T070000Z
DTEND:20260330T160000Z
DTSTAMP:20260424T145800Z
UID:indico-event-427@spectra-indico-teszt.hinfra.hu
DESCRIPTION:Fundamentals of Deep Learning\n Format : Présentiel\nUne s
 éance pratique d’introduction au Deep Learning\, orientée sur PyTorch.
 Les supports sont en anglais\, mais la formation sera dispensée en franç
 ais.\n \n\n \n Contenu de la formation\n \n\nBases de l’apprentissag
 e profond\n\n \n\nEntraîner\, valider et tester un modèle\n\n \n\nAugm
 entation de données\n\n \n\nTransfer Learning : adapter un réseau de ne
 urones existant à vos besoins\n\n \n\nÉvaluation finale avec certificat
  de complétion\n\n \n+ de détails sur le cours NVIDIA\n Prérequis\n 
 \n\nOrdinateur portable utilisable (performance minimale non requise)\nBas
 es en programmation\nConnaissances en Python fortement recommandées\nComp
 te sur la plateforme d’apprentissage NVIDIA nécessaire\n\n\nhttps://spe
 ctra-indico-teszt.hinfra.hu/event/427/
URL:https://spectra-indico-teszt.hinfra.hu/event/427/
END:VEVENT
END:VCALENDAR
