BEGIN:VCALENDAR
VERSION:2.0
PRODID:-//CERN//INDICO//EN
BEGIN:VEVENT
SUMMARY:Formation HPC : Intro au HPC (2/2) : Premiers pas sur un supercalc
 ulateur
DTSTART:20260402T120000Z
DTEND:20260402T150000Z
DTSTAMP:20260424T164500Z
UID:indico-event-428@spectra-indico-teszt.hinfra.hu
DESCRIPTION:\n\n\n Premiers pas sur un supercalculateur (2/2)\n\n \n\n\n
 \n \nPlongez directement dans la pratique et prenez en main le supercalcu
 lateur ROMEO2025. Cette deuxième session\, complément indispensable de l
 a conférence d’introduction\, vous mettra en situation réelle : à l
 ’issue de l’atelier vous serez capable de préparer et soumettre un jo
 b sur ROMEO2025.\n \nCe que vous apprendrez (atelier pratique)\n \n\n C
 omment se connecter à ROMEO ? (accès\, authentification\, bonnes pratiqu
 es)\n\n \n\n Comment utiliser VSCode pour éditer et transmettre vos fic
 hiers de travail\n\n \n\n Comment préparer un job : structure des fichi
 ers\, ressources à demander\, bonnes pratiques pour le queueing\n\n \n\n
  Comment soumettre un job et suivre son exécution sur ROMEO2025\n\n \nP
 ourquoi participer ?\n \n\n Atelier résolument pratique — vous repart
 ez avec une expérience opérationnelle\, pas seulement de la théorie.\n\
 n \n\n Objectif concret : soumettre un job fonctionnel sur ROMEO2025.\n\
 n \n\n Présentiel privilégié : être sur place à l’URCA maximise l
 es échanges et l’accompagnement. Une option en ligne est prévue si vou
 s ne pouvez pas vous déplacer.\n\n \n\n Important : la maîtrise de com
 mandes Linux de base est obligatoire pour suivre l’atelier efficacement.
 \n\n \n \n\n \n \nDate : 2 avril 2026 — 14h à 17hMode : Hybride (pr
 ésentiel privilégié à l’URCA — participation en ligne possible)Pr
 é-requis (obligatoire) : commandes de base LinuxLieu : URCA\, Campus Moul
 in de la Housse — Bâtiment 2/3\, Salle 2R-32 (au-dessus de la salle d
 ’examen)\nOrganisé en collaboration avec CC-FR\, URCA\, ROMEO et MesoNe
 t.\n\n\nhttps://spectra-indico-teszt.hinfra.hu/event/428/
URL:https://spectra-indico-teszt.hinfra.hu/event/428/
END:VEVENT
END:VCALENDAR
