BEGIN:VCALENDAR
VERSION:2.0
PRODID:-//CERN//INDICO//EN
BEGIN:VEVENT
SUMMARY:Formation IA : Accélérer l’IA grâce au calcul haute performan
 ce et aux GPU multiples
DTSTART:20260408T113000Z
DTEND:20260408T160000Z
DTSTAMP:20260424T212000Z
UID:indico-event-429@spectra-indico-teszt.hinfra.hu
DESCRIPTION:Découvrez comment accélérer vos calculs en intelligence art
 ificielle grâce au HPC et aux GPU multiples. Cette formation allie théor
 ie et pratique pour optimiser vos modèles avec PyTorch.\nContenu de la fo
 rmation\n\nIntroduction à CUDA et à l’architecture GPU\nProgrammation 
 avec un seul GPU\nChargement et gestion des données\nProgrammation multi-
 GPU : Data Parallelism & parallélisme de modèles\nCommunication inter-GP
 U et synchronisation\nProfiling et bonnes pratiques\nÉvaluation des perfo
 rmances et speedup selon différents paramètres\nÉtude de cas pratique\n
 \nPublic visé\n\nToute personne intéressée par l’accélération GPU d
 e calculs IA\nDéveloppeurs et chercheurs souhaitant exploiter le parallé
 lisme pour le Deep Learning\n\nPrérequis\n\nConnaissances en Python et Py
 Torch\nBases en calcul haute performance (HPC)\nCompréhension des concept
 s fondamentaux en machine learning\n\nPourquoi participer ?\n\nApprenez à
  exploiter plusieurs GPU pour vos projets IA\nFormation pratique et orient
 ée performance\nÉvaluez vos modèles avec des metrics réelles et speedu
 p mesurés\n\n\nhttps://spectra-indico-teszt.hinfra.hu/event/429/
URL:https://spectra-indico-teszt.hinfra.hu/event/429/
END:VEVENT
END:VCALENDAR
