BEGIN:VCALENDAR
VERSION:2.0
PRODID:-//CERN//INDICO//EN
BEGIN:VEVENT
SUMMARY:Modern C++ CPU computing with std::algorithm
DTSTART:20260305T090000Z
DTEND:20260305T110000Z
DTSTAMP:20260424T150000Z
UID:indico-event-440@spectra-indico-teszt.hinfra.hu
DESCRIPTION:Nowadays\, hardware becomes more and more complex. Developing 
 efficient programs on all these architectures becomes also more and more d
 ifficult. Several solutions are available. Using specialised libraries for
  one or an other achitecture\, but which one to choose ? C++ 17 introduces
  high level algorithms to abstract the hardware\, so classic implementatio
 ns can be simplified to vectorize and parallelize computation. This deeply
  simplifies program which uses this method. Since these algorithms rely on
  the compiler\, we will see in a future webinar how to use a specialised c
 ompiler (such as nvc++) to compile a C++17 program directly on GPU without
  any other modification. \n \nWhat are Gray Scott Thursdays?\nGray Scott
  Thursdays are a unique series of 18 live webinars\, held every Thursday l
 eading up to the Gray Scott School 2026. Each session is presented by our 
 expert professors and provides an early dive into the key topics of High-P
 erformance Computing\, including:\nCPU/GPU architectures\, memory manageme
 nt\, profiling\, testing\, and modern programming languages such as C++\, 
 Fortran\, Julia and Python… and much more!\nThese webinars are a perfect
  opportunity to get a head start\, learn directly from the instructors\, a
 nd familiarize yourself with the tools\, libraries\, and methods that will
  be used during the intensive on-site training.\n\nhttps://spectra-indico-
 teszt.hinfra.hu/event/440/
URL:https://spectra-indico-teszt.hinfra.hu/event/440/
END:VEVENT
END:VCALENDAR
