BEGIN:VCALENDAR
VERSION:2.0
PRODID:-//CERN//INDICO//EN
BEGIN:VEVENT
SUMMARY:GPU Architecture
DTSTART:20260326T090000Z
DTEND:20260326T110000Z
DTSTAMP:20260424T150000Z
UID:indico-event-442@spectra-indico-teszt.hinfra.hu
DESCRIPTION:Nowadays\, computing uses more and more graphic processors\, o
 r GPU. This webinar will be a deep dive into their hardware architectures\
 , their common points and differences with CPU (presented before) and beha
 viour of recent drivers\, the impact of the expressed parallelism on perfo
 rmances and some methods to get both flexibility in development and perfor
 mances. \n \nWhat are Gray Scott Thursdays?\nGray Scott Thursdays are a 
 unique series of 18 live webinars\, held every Thursday leading up to the 
 Gray Scott School 2026. Each session is presented by our expert professors
  and provides an early dive into the key topics of High-Performance Comput
 ing\, including:\nCPU/GPU architectures\, memory management\, profiling\, 
 testing\, and modern programming languages such as C++\, Fortran\, Julia a
 nd Python… and much more!\nThese webinars are a perfect opportunity to g
 et a head start\, learn directly from the instructors\, and familiarize yo
 urself with the tools\, libraries\, and methods that will be used during t
 he intensive on-site training.\n\nhttps://spectra-indico-teszt.hinfra.hu/e
 vent/442/
URL:https://spectra-indico-teszt.hinfra.hu/event/442/
END:VEVENT
END:VCALENDAR
