BEGIN:VCALENDAR
VERSION:2.0
PRODID:-//CERN//INDICO//EN
BEGIN:VEVENT
SUMMARY:Modern C++ GPU computing with std::algorithm and CUDA
DTSTART:20260409T080000Z
DTEND:20260409T100000Z
DTSTAMP:20260424T164300Z
UID:indico-event-444@spectra-indico-teszt.hinfra.hu
DESCRIPTION:In C++\, GPU computing evoled drastically in 2020 when NVidia 
 announced its compiler\, nvc++\, could compile C++ 17 computing directly o
 n GPU without the need for the developer to use extra libraries such as SY
 CL\, Kokkos\, etc. Now\, nvc++ can also deal with C++20 and Intel came in 
 the race with dpc++. In this webinar\, we will see how to compute on GPU w
 ith C++17 and C++20. Common ponits and differences with other approches\, 
 such as CUDA\, and its compatibility with C++17 on CPU as we mentionned is
  a previous webinar.\n \nWhat are Gray Scott Thursdays?\nGray Scott Thurs
 days are a unique series of 18 live webinars\, held every Thursday leading
  up to the Gray Scott School 2026. Each session is presented by our expert
  professors and provides an early dive into the key topics of High-Perform
 ance Computing\, including:\nCPU/GPU architectures\, memory management\, p
 rofiling\, testing\, and modern programming languages such as C++\, Fortra
 n\, Julia and Python… and much more!\nThese webinars are a perfect oppor
 tunity to get a head start\, learn directly from the instructors\, and fam
 iliarize yourself with the tools\, libraries\, and methods that will be us
 ed during the intensive on-site training.\n\nhttps://spectra-indico-teszt.
 hinfra.hu/event/444/
URL:https://spectra-indico-teszt.hinfra.hu/event/444/
END:VEVENT
END:VCALENDAR
