BEGIN:VCALENDAR
VERSION:2.0
PRODID:-//CERN//INDICO//EN
BEGIN:VEVENT
SUMMARY:Kokkos on CPU
DTSTART:20260416T080000Z
DTEND:20260416T100000Z
DTSTAMP:20260424T230200Z
UID:indico-event-445@spectra-indico-teszt.hinfra.hu
DESCRIPTION:How to use Kokkos to develop CPU and GPU portable applications
 .\n \nWhat are Gray Scott Thursdays?\nGray Scott Thursdays are a unique s
 eries of 18 live webinars\, held every Thursday leading up to the Gray Sco
 tt School 2026. Each session is presented by our expert professors and pro
 vides an early dive into the key topics of High-Performance Computing\, in
 cluding:\nCPU/GPU architectures\, memory management\, profiling\, testing\
 , and modern programming languages such as C++\, Fortran\, Julia and Pytho
 n… and much more!\nThese webinars are a perfect opportunity to get a hea
 d start\, learn directly from the instructors\, and familiarize yourself w
 ith the tools\, libraries\, and methods that will be used during the inten
 sive on-site training.\n\nhttps://spectra-indico-teszt.hinfra.hu/event/445
 /
URL:https://spectra-indico-teszt.hinfra.hu/event/445/
END:VEVENT
END:VCALENDAR
