BEGIN:VCALENDAR
VERSION:2.0
PRODID:-//CERN//INDICO//EN
BEGIN:VEVENT
SUMMARY:EVE : a C++ 20 computing library on CPU
DTSTART:20260423T080000Z
DTEND:20260423T100000Z
DTSTAMP:20260424T212000Z
UID:indico-event-446@spectra-indico-teszt.hinfra.hu
DESCRIPTION:SIMD instructions sets are a must have in all processors achit
 ectures since the end of the 90s. Unfortunately\, their manual usage or th
 eir use through autovectorizer are not always optimal. We will introduce E
 VE\, a library which eases vectorization for C++ 20. It aims :\n\nto play 
 with modern idioms of C++20\nto provide more than 200 pre-vectorized mathe
 matical functions\nto support Intel\, ARM and PPC\nto integrate in codes b
 ased on algorithms\n\nWe will mainly present the interface and attainable 
 results with EVE on simple examples.\n \nWhat are Gray Scott Thursdays?\n
 Gray Scott Thursdays are a unique series of 18 live webinars\, held every 
 Thursday leading up to the Gray Scott School 2026. Each session is present
 ed by our expert professors and provides an early dive into the key topics
  of High-Performance Computing\, including:\nCPU/GPU architectures\, memor
 y management\, profiling\, testing\, and modern programming languages such
  as C++\, Fortran\, Julia and Python… and much more!\nThese webinars are
  a perfect opportunity to get a head start\, learn directly from the instr
 uctors\, and familiarize yourself with the tools\, libraries\, and methods
  that will be used during the intensive on-site training.\n\nhttps://spect
 ra-indico-teszt.hinfra.hu/event/446/
URL:https://spectra-indico-teszt.hinfra.hu/event/446/
END:VEVENT
END:VCALENDAR
