BEGIN:VCALENDAR
VERSION:2.0
PRODID:-//CERN//INDICO//EN
BEGIN:VEVENT
SUMMARY:Python CPU computing (numpy\, etc)
DTSTART:20260430T080000Z
DTEND:20260430T100000Z
DTSTAMP:20260424T164500Z
UID:indico-event-447@spectra-indico-teszt.hinfra.hu
DESCRIPTION:Python is a largely used in the scientific community for is si
 mplicity of use. However\, native Python is far from performances of compi
 led languages. Some computing libraries can be used to get clother to thes
 e performances. In this webinar we will present simple techniques to compu
 te with numpy on CPU. We will also see other methods to use when numpy is 
 not enough. In particular\, just in time compiling libraries such as Numba
 \, and multi-threading. \n \nWhat are Gray Scott Thursdays?\nGray Scott 
 Thursdays are a unique series of 18 live webinars\, held every Thursday le
 ading up to the Gray Scott School 2026. Each session is presented by our e
 xpert professors and provides an early dive into the key topics of High-Pe
 rformance Computing\, including:\nCPU/GPU architectures\, memory managemen
 t\, profiling\, testing\, and modern programming languages such as C++\, F
 ortran\, Julia and Python… and much more!\nThese webinars are a perfect 
 opportunity to get a head start\, learn directly from the instructors\, an
 d familiarize yourself with the tools\, libraries\, and methods that will 
 be used during the intensive on-site training.\n\nhttps://spectra-indico-t
 eszt.hinfra.hu/event/447/
URL:https://spectra-indico-teszt.hinfra.hu/event/447/
END:VEVENT
END:VCALENDAR
