BEGIN:VCALENDAR
VERSION:2.0
PRODID:-//CERN//INDICO//EN
BEGIN:VEVENT
SUMMARY:Parallel Programming with MPI\, OpenMP and Tools
DTSTART:20260302T073000Z
DTEND:20260306T153000Z
DTSTAMP:20260424T224500Z
UID:indico-event-456@spectra-indico-teszt.hinfra.hu
DESCRIPTION:https://spectra-indico-teszt.hinfra.hu/event/456/
LOCATION:Andreas-Pfitzmann-Bau (APB)\, Room E065 (ZIH Dresden)
URL:https://spectra-indico-teszt.hinfra.hu/event/456/
END:VEVENT
END:VCALENDAR
