BEGIN:VCALENDAR
VERSION:2.0
PRODID:-//CERN//INDICO//EN
BEGIN:VEVENT
SUMMARY:CodeRefinery workshop - collaboration tools
DTSTART:20260317T090000Z
DTEND:20260319T140000Z
DTSTAMP:20260425T001100Z
UID:indico-event-457@spectra-indico-teszt.hinfra.hu
CONTACT:training@cyfronet.pl\;events-noreply@plgrid.pl
DESCRIPTION:Speakers: Oskar Klimas (ACC Cyfronet AGH)\, Leszek Grzanka\, K
 lemens Noga (ACC Cyfronet AGH)\n\nThis free online CodeRefinery workshop i
 s designed for researchers and students from all disciplines who want to w
 rite software as part of their research.\nThis workshop teaches essential 
 tools that are usually skipped in academic education\, so everyone can mak
 e full use of software\, computing\, and data with a focus on reusability\
 , reproducibility\, and openness.\nThis is the first part of the workshop.
  To register for the latter\, visit the CodeRefinery workshop - open softw
 are\, automated testing and AI assisted coding.\nTarget audience\nAny pers
 on who wants to write software as part of their research or work.\nAgenda\
 n\nDay 1 – Tuesday\, March 17\, 2026\n\nIntroduction to version control 
 with Git (parts 1–2: motivation\, browsing\, committing\, merging).\n\n\
 nDay 2 – Wednesday\, March 18\, 2026\n\nIntroduction to version control 
 with Git (parts 3–4: local workflows\, inspecting history\, sharing work
 \, practical advice).\n\n\nDay 3 – Thursday\, March 19\, 2026\n\nCollabo
 rative distributed version control (concepts\, same-repository collaborati
 on\, code review\, contributing via forking)\n\n\n\n \nGet detailed works
 hop content\, including online installation help\, on the main workshop we
 bpage.\nRequirements\nVery Basic knowledge of programming or scripting and
  willingness to learn about software development with a focus on reusabili
 ty\, reproducibility\, and openness. More information about prerequisites 
 is available at the main event webpage.\nVenue\nThe workshop will be condu
 cted both online and on-site at ACC Cyfronet AGH\, Nawojki 11\, Kraków\, 
 in room 303 on the third floor.\nLanguage\nEnglish\nDuration\n3 days 4 hou
 rs each\nRegistration\n\nRegister for the online course at the workshop we
 bpage (all participants\, remote or in person)\nRegister for the in-person
  classroom at Cyfronet (in-person participants only) by clicing on the lin
 k\n\nPlease register only for the in-person classroom if you will attend i
 n person at Cyfronet. \nIf there are not enough in-person registrations\,
  the local part of the workshop at Cyfronet could be canceled. We will not
 ify all registered participants in a timely manner.\nAcknowledgements\nThi
 s course is partially funded by the EuroCC 2 project.\nThe project has rec
 eived funding from the European High-Performance Computing Joint Undertaki
 ng (JU) under grant agreement No 101101903. The JU receives support from t
 he Digital Europe Programme and Austria\, Belgium\, Bulgaria\, Croatia\, C
 yprus\, Czech Republic\, Denmark\, Estonia\, Finland\, France\, Germany\, 
 Greece\, Hungary\, Iceland\, Ireland\, Italy\, Latvia\, Lithuania\, Luxemb
 ourg\, Montenegro\, Netherlands\, North Macedonia\, Norway\, Poland\, Port
 ugal\, Romania\, Serbia\, Slovakia\, Slovenia\, Spain\, Sweden\, and Türk
 iye.\n\n\nhttps://spectra-indico-teszt.hinfra.hu/event/457/
LOCATION:ACK Cyfronet AGH (on site)
URL:https://spectra-indico-teszt.hinfra.hu/event/457/
END:VEVENT
END:VCALENDAR
