BEGIN:VCALENDAR
VERSION:2.0
PRODID:-//CERN//INDICO//EN
BEGIN:VEVENT
SUMMARY:CodeRefinery workshop - open software\, automated testing and AI a
 ssisted coding
DTSTART:20260324T090000Z
DTEND:20260326T140000Z
DTSTAMP:20260424T145800Z
UID:indico-event-458@spectra-indico-teszt.hinfra.hu
CONTACT:training@cyfronet.pl\;events-noreply@plgrid.pl
DESCRIPTION:Speakers: Klemens Noga (ACC Cyfronet AGH)\, Oskar Klimas (ACC 
 Cyfronet AGH)\n\nThis free online CodeRefinery workshop is designed for re
 searchers and students from all disciplines who want to write software as 
 part of their research.\nThis workshop teaches essential tools that are us
 ually skipped in academic education\, so everyone can make full use of sof
 tware\, computing\, and data with a focus on reusability\, reproducibility
 \, and openness.\nThis is the second part of the workshop. To register for
  the first part\, visit the CodeRefinery workshop - collaboration tools.\n
 Target audience\nAny person who wants to write software as part of their r
 esearch or work.\nAgenda\n\nDay 4 – Tuesday\, March 24\, 2026\n\nReprodu
 cible research\; Social coding and open software.\n\n\nDay 5 – Wednesday
 \, March 25\, 2026\n\nHow to document your research software: Responsible 
 use of generative AI in assisted coding.\n\n\nDay 6 – Thursday\, March 2
 6\, 2026\n\nAutomated testing\; Modular code development\; Concluding rema
 rks and general Q&A\n\n\n\n \nGet detailed workshop content\, including o
 nline installation help\, on the main workshop webpage.\nRequirements\nVer
 y Basic knowledge of programming or scripting and willingness to learn abo
 ut software development with a focus on reusability\, reproducibility\, an
 d openness. More information about prerequisites is available at the main 
 event webpage.\nVenue\nThe workshop will be conducted both online and on-s
 ite at ACC Cyfronet AGH\, Nawojki 11\, Kraków\, in room 303 on the third 
 floor.\nLanguage\nEnglish\nDuration\n3 days 4 hours each\nRegistration\n\n
 Register for the online course at the workshop webpage (all participants\,
  remote or in person)\nRegister for the in-person classroom at Cyfronet (i
 n-person participants only) by clicking on the link\n\nPlease register onl
 y for the in-person classroom if you will attend in person at Cyfronet. \
 nIf there are not enough in-person registrations\, the local part of the w
 orkshop at Cyfronet could be canceled. We will notify all registered parti
 cipants in a timely manner.\n \nAcknowledgements\nDays 4 and 6 are organi
 sed as part of the EuroCC2 project\n\nThe project has received funding fro
 m the European High-Performance Computing Joint Undertaking (JU) under gra
 nt agreement No 101101903. The JU receives support from the Digital Europe
  Programme and Austria\, Belgium\, Bulgaria\, Croatia\, Cyprus\, Czech Rep
 ublic\, Denmark\, Estonia\, Finland\, France\, Germany\, Greece\, Hungary\
 , Iceland\, Ireland\, Italy\, Latvia\, Lithuania\, Luxembourg\, Montenegro
 \, Netherlands\, North Macedonia\, Norway\, Poland\, Portugal\, Romania\, 
 Serbia\, Slovakia\, Slovenia\, Spain\, Sweden\, and Türkiye.\n \nDay 5 i
 s organised as part of the LAIF Service Center project\n\n\n\nhttps://spec
 tra-indico-teszt.hinfra.hu/event/458/
LOCATION:303 (ACC Cyfronet AGH)
URL:https://spectra-indico-teszt.hinfra.hu/event/458/
END:VEVENT
END:VCALENDAR
