BEGIN:VCALENDAR
VERSION:2.0
PRODID:-//CERN//INDICO//EN
BEGIN:VEVENT
SUMMARY:All electron DFT with Fleur - a Hands-on Tutorial
DTSTART:20260327T150000Z
DTEND:20260327T220000Z
DTSTAMP:20260424T194000Z
UID:indico-event-461@spectra-indico-teszt.hinfra.hu
DESCRIPTION:https://spectra-indico-teszt.hinfra.hu/event/461/
URL:https://spectra-indico-teszt.hinfra.hu/event/461/
END:VEVENT
END:VCALENDAR
