BEGIN:VCALENDAR
VERSION:2.0
PRODID:-//CERN//INDICO//EN
BEGIN:VEVENT
SUMMARY:Test course for registration options
DTSTART:20260408T110000Z
DTEND:20260408T130000Z
DTSTAMP:20260424T150000Z
UID:indico-event-465@spectra-indico-teszt.hinfra.hu
DESCRIPTION:https://spectra-indico-teszt.hinfra.hu/event/465/
URL:https://spectra-indico-teszt.hinfra.hu/event/465/
END:VEVENT
END:VCALENDAR
