BEGIN:VCALENDAR
VERSION:2.0
PRODID:-//CERN//INDICO//EN
BEGIN:VEVENT
SUMMARY:Unlocking CFD Performance at Scale with Ansys Fluent
DTSTART:20260326T110000Z
DTEND:20260326T130000Z
DTSTAMP:20260424T145900Z
UID:indico-event-472@spectra-indico-teszt.hinfra.hu
CONTACT:carl.mensch@uantwerpen.be
DESCRIPTION:In this session we explore together with Infinite Solution Sys
 tems how Ansys Fluent can be combined with supercomputing to significantly
  accelerate CFD workflows. We present recent advances in meshing and demon
 strate how the native multi-GPU solver enables major speedups on VSC GPU i
 nfrastructure\, including practical deployment and scalability results.\nA
 s a real-world case\, we showcase a collaboration with the Innoptus Solar 
 Team (KU Leuven)\, where aerodynamic CFD simulations were migrated from CP
 U to GPU to support rapid solar car development. The session covers aerody
 namic optimization\, fin design validation\, race strategy simulations for
  the Australian competition\, and wind-tunnel validation of the CFD models
 .\nOn March 26th\, 2026\, online.\n Register here!\n\nhttps://spectra-ind
 ico-teszt.hinfra.hu/event/472/
LOCATION:webinar
URL:https://spectra-indico-teszt.hinfra.hu/event/472/
END:VEVENT
END:VCALENDAR
