BEGIN:VCALENDAR
VERSION:2.0
PRODID:-//CERN//INDICO//EN
BEGIN:VEVENT
SUMMARY:EVITA Collaboration Opportunities Webinar
DTSTART:20260423T130000Z
DTEND:20260423T140000Z
DTSTAMP:20260425T015600Z
UID:indico-event-473@spectra-indico-teszt.hinfra.hu
CONTACT:training@it4i.cz
DESCRIPTION:This webinar is organised as part of the EVITA project.\nAnnot
 ation\nThis webinar targets organisations involved in the European HPC tra
 ining ecosystem\, including representatives of NCCs\, Centres of Excellenc
 e\, universities\, and other training providers active in HPC\, AI\, and e
 merging technologies. It will introduce the EVITA project and present conc
 rete opportunities to contribute to the development and adoption of high-q
 uality training modules aligned with the EuroHPC Competence and Qualificat
 ion Framework (CQF). Participants will also learn how to contribute to sha
 ping the CQF itself\, including defining HPC skills\, competencies\, and l
 earning pathways\, and to the EVITA training platform through module devel
 opment\, by participating in open calls for training providers.\n \nWhat 
 you will learn\n\nIntroduction to the EVITA HPC Competence and Qualificati
 on Framework (CQF)\, the CQF Advisory Board and opportunities to propose a
 nd shape topics that could be developed into future training modules.\nHow
  to reserve specific topics or materials your organisation already possess
 es and contribute them directly to EVITA (outside of the Public Call).\nEx
 planation of the cascade funding mechanism and how organisations and exper
 ts can participate in EVITA activities through it.\nOpportunities to parti
 cipate as expert reviewers of proposals within a cascade funding (a paid r
 ole within the project)\nA brief introduction to the EVITA Skill Tree.\nOv
 erview of the planned EVITA certification scheme connected to the training
  ecosystem.\n\n\nhttps://spectra-indico-teszt.hinfra.hu/event/473/
LOCATION:online
URL:https://spectra-indico-teszt.hinfra.hu/event/473/
END:VEVENT
END:VCALENDAR
