BEGIN:VCALENDAR
VERSION:2.0
PRODID:-//CERN//INDICO//EN
BEGIN:VEVENT
SUMMARY:HPC Training Series - Course 21 "HPC for Beginners: SLURM\, MPI an
 d OpenMP"
DTSTART:20260320T084500Z
DTEND:20260320T144500Z
DTSTAMP:20260424T150000Z
UID:indico-event-474@spectra-indico-teszt.hinfra.hu
DESCRIPTION:EuroCC@Greece announces the 21st Course of HPC Training Series
  with the subject “HPC for Beginners: SLURM\, MPI and OpenMP”\, taking
  place online on March 20th\, 2026.\nPresentation language: Greek \nAudie
 nce: Suitable for all users\, with a focus on:\n\nEngineers\nDevelopers\nI
 T Professionals\nStudents\nResearchers\n\nThis course is ideal for those l
 ooking to understand the basics of how parallel computing technologies\, s
 uch as MPI and OpenMP\, can improve code performance.\nCourse Description:
  This is an introductory course designed for engineers\, developers\, IT p
 rofessionals\, students\, and researchers looking to enhance code performa
 nce using parallel computing. Participants will learn fundamental concepts
  of High-Performance Computing (HPC)\, with a focus on shared and distribu
 ted memory parallelism. The course covers the open-source workload manager
  and job scheduler SLURM (Simple Linux Utility for Resource Management)\, 
 OpenMP for shared memory parallelism\, and MPI for distributed memory comp
 uting\, introducing both single-node and multi-node parallel techniques\, 
 respectively. Additionally\, participants will gain insights into accessin
 g Greek and European supercomputers for research and development. No prior
  HPC experience is required\, but basic programming knowledge (C\, C++\, o
 r Fortran) is recommended.\nMore information and the course’s Agenda can
  be found here.\nRegister to attend by filling out the form here. \n\nh
 ttps://spectra-indico-teszt.hinfra.hu/event/474/
URL:https://spectra-indico-teszt.hinfra.hu/event/474/
END:VEVENT
END:VCALENDAR
