BEGIN:VCALENDAR
VERSION:2.0
PRODID:-//CERN//INDICO//EN
BEGIN:VEVENT
SUMMARY:Introduction using Komondor supercomputer
DTSTART:20260312T080000Z
DTEND:20260312T120000Z
DTSTAMP:20260424T224500Z
UID:indico-event-475@spectra-indico-teszt.hinfra.hu
CONTACT:hpc@dkf.hu
DESCRIPTION:The focus of the entry-level workshop will be on the DKF's sup
 ercomputer\, Komondor. The aim of the workshop is to provide participants 
 with the essential basics of using the new cluster in a short\, hands-on e
 vent. During the event\, we will jointly review the hardware and software 
 environment of the machine\, connectivity and data movement options\, avai
 lable compilers\, and how to compile and run multi-threaded\, multi-proces
 sing or GPU-based programs. \nLecturer: Dr. László Környei  (Associa
 te Professor Associate at the Széchenyi István University)\, HPC expert
  (DKF)\nLanguage of the workshop: English\nVenue: online/teams \nThe ev
 ent is recommended for those who would like to try out the new supercomput
 er with hands-on support and have user-level Linux command-line skills.\n\
 nhttps://spectra-indico-teszt.hinfra.hu/event/475/
URL:https://spectra-indico-teszt.hinfra.hu/event/475/
END:VEVENT
END:VCALENDAR
