BEGIN:VCALENDAR
VERSION:2.0
PRODID:-//CERN//INDICO//EN
BEGIN:VEVENT
SUMMARY:Introduction to Supercomputing\, part I
DTSTART:20260414T110000Z
DTEND:20260414T143000Z
DTSTAMP:20260424T181700Z
UID:indico-event-481@spectra-indico-teszt.hinfra.hu
DESCRIPTION:If you need to perform many calculations\, or analyses that ar
 e too big for your own system\, clusters and supercomputers will provide t
 he computing power you need. In this course\, you will learn how to work w
 ith these large computing systems!\nIn this training you will:\n\nundersta
 nd what is high-performance computing (HPC)\nlearn basic details on cluste
 rs and supercomputers\ndo practical exercises on the national supercomput
 er Snelliuseffectively\napply the essential best practices on how to work 
 effectively with large HPC systems\n\nFor whom?\nAnyone who wants to know 
 how to perform very large computing tasks.\nRequirements\nPersonal compute
 r and terminal with SSH.\nBasic knowledge of Unix shell is useful.\nThe 
 language of instruction is English.\nRegister here\n\nhttps://spectra-indi
 co-teszt.hinfra.hu/event/481/
LOCATION:Online
URL:https://spectra-indico-teszt.hinfra.hu/event/481/
END:VEVENT
END:VCALENDAR
