BEGIN:VCALENDAR
VERSION:2.0
PRODID:-//CERN//INDICO//EN
BEGIN:VEVENT
SUMMARY:Intel Developer Workshop
DTSTART:20260420T070000Z
DTEND:20260421T150000Z
DTSTAMP:20260424T230200Z
UID:indico-event-482@spectra-indico-teszt.hinfra.hu
DESCRIPTION:\nGeneral Information\nA two-day on-site workshop at the Leibn
 iz Supercomputing Centre (LRZ) in Garching near Munich\, focused on Intel
 ’s modern HPC software ecosystem and the oneAPI toolchain. The program c
 ombines lectures with hands-on sessions covering Intel LLVM compilers (ICX
 /IFX)\, performance optimization\, key libraries (e.g.\, oneMKL)\, and ana
 lysis tools such as VTune\, APS\, and Intel Advisor. Guidance for migratin
 g from legacy ICC/IFORT compilers is included.\nParticipants must attend i
 n person (no remote option) and bring their own laptops. Attendees will re
 ceive access to the CoolMUC-4 cluster for exercises. A basic background in
  HPC and programming in C/C++ or Fortran is recommended. The workshop is 
 co-organized by LRZ and Intel for the German National Competence Centre fo
 r High-Performance Computing. The event is held in English and includes op
 tional networking and a guided LRZ facility tour.details of the course can
  be found here\n\n\nhttps://spectra-indico-teszt.hinfra.hu/event/482/
LOCATION:Garching b. München
URL:https://spectra-indico-teszt.hinfra.hu/event/482/
END:VEVENT
END:VCALENDAR
