BEGIN:VCALENDAR
VERSION:2.0
PRODID:-//CERN//INDICO//EN
BEGIN:VEVENT
SUMMARY:Containerisation workshop
DTSTART:20260416T070000Z
DTEND:20260416T100000Z
DTSTAMP:20260424T181700Z
UID:indico-event-483@spectra-indico-teszt.hinfra.hu
DESCRIPTION:https://spectra-indico-teszt.hinfra.hu/event/483/
URL:https://spectra-indico-teszt.hinfra.hu/event/483/
END:VEVENT
END:VCALENDAR
